BEGIN:VCALENDAR
VERSION:2.0
PRODID:-//appserver-51546c75-nginx-13dbd182d9924c1f83efd8e9cc868cb8//NONSGM
 L kigkonsult.se iCalcreator 2.26.9//
CALSCALE:GREGORIAN
METHOD:PUBLISH
X-FROM-URL:https://local1623.ca
X-WR-TIMEZONE:America/Toronto
BEGIN:VTIMEZONE
TZID:America/Toronto
X-LIC-LOCATION:America/Toronto
BEGIN:STANDARD
DTSTART:20251102T020000
TZOFFSETFROM:-0400
TZOFFSETTO:-0500
RDATE:20261101T020000
TZNAME:EST
END:STANDARD
BEGIN:DAYLIGHT
DTSTART:20260308T020000
TZOFFSETFROM:-0500
TZOFFSETTO:-0400
RDATE:20270314T020000
TZNAME:EDT
END:DAYLIGHT
END:VTIMEZONE
BEGIN:VEVENT
UID:ai1ec-1617@local1623.ca
DTSTAMP:20260422T122856Z
CATEGORIES:
CONTACT:
DTSTART;TZID=America/Toronto:20230621T190000
DTEND;TZID=America/Toronto:20230621T210000
SUMMARY:General Membership Meeting
URL:https://local1623.ca/event/general-membership-meeting-2/
X-COST-TYPE:free
END:VEVENT
BEGIN:VEVENT
UID:ai1ec-1620@local1623.ca
DTSTAMP:20260422T122856Z
CATEGORIES:
CONTACT:
DTSTART;TZID=America/Toronto:20230706T080000
DTEND;TZID=America/Toronto:20230706T160000
LOCATION:Office @ 885 Regent Street
SUMMARY:Executive Meeting
URL:https://local1623.ca/event/executive-meeting-2/
X-COST-TYPE:free
END:VEVENT
BEGIN:VEVENT
UID:ai1ec-1621@local1623.ca
DTSTAMP:20260422T122856Z
CATEGORIES:
CONTACT:
DTSTART;TZID=America/Toronto:20230817T080000
DTEND;TZID=America/Toronto:20230817T160000
LOCATION:Office @ 885 Regent Street
SUMMARY:Executive Meeting
URL:https://local1623.ca/event/1621/
X-COST-TYPE:free
END:VEVENT
BEGIN:VEVENT
UID:ai1ec-1648@local1623.ca
DTSTAMP:20260422T122856Z
CATEGORIES:
CONTACT:
DTSTART;TZID=America/Toronto:20230914T080000
DTEND;TZID=America/Toronto:20230914T160000
SUMMARY:Executive Meeting
URL:https://local1623.ca/event/executive-meeting-3/
X-COST-TYPE:free
END:VEVENT
BEGIN:VEVENT
UID:ai1ec-1651@local1623.ca
DTSTAMP:20260422T122856Z
CATEGORIES:
CONTACT:
DTSTART;TZID=America/Toronto:20230920T190000
DTEND;TZID=America/Toronto:20230921T210000
SUMMARY:General Membership Meeting
URL:https://local1623.ca/event/general-membership-meeting-3/
X-COST-TYPE:free
END:VEVENT
BEGIN:VEVENT
UID:ai1ec-1652@local1623.ca
DTSTAMP:20260422T122856Z
CATEGORIES:
CONTACT:
DTSTART;TZID=America/Toronto:20231012T080000
DTEND;TZID=America/Toronto:20231012T160000
RRULE:FREQ=MONTHLY;UNTIL=20240509T235959Z;BYDAY=2TH
SUMMARY:Executive Meeting
URL:https://local1623.ca/event/executive-meeting-4/
X-COST-TYPE:free
END:VEVENT
BEGIN:VEVENT
UID:ai1ec-1653@local1623.ca
DTSTAMP:20260422T122856Z
CATEGORIES:
CONTACT:
DTSTART;TZID=America/Toronto:20231115T190000
DTEND;TZID=America/Toronto:20231115T210000
SUMMARY:General Membership Meeting
URL:https://local1623.ca/event/general-membership-meeting-4/
X-COST-TYPE:free
END:VEVENT
BEGIN:VEVENT
UID:ai1ec-1867@local1623.ca
DTSTAMP:20260422T122856Z
CATEGORIES:
CONTACT:JAMIE NYMAN\; 7056186818\; recording@local1623.ca\; local1623.ca
DTSTART;TZID=America/Toronto:20250423T190000
DTEND;TZID=America/Toronto:20250423T210000
LOCATION:CUPE National Office @ 944 Barrydowne Road Sudbury\, ON
SUMMARY:General Membership Meeting
URL:https://local1623.ca/event/general-membership-meeting-5/
X-COST-TYPE:free
END:VEVENT
BEGIN:VEVENT
UID:ai1ec-1871@local1623.ca
DTSTAMP:20260422T122856Z
CATEGORIES:
CONTACT:
DTSTART;TZID=America/Toronto:20250428T090000
DTEND;TZID=America/Toronto:20250502T120000
LOCATION:Deerhurst @ 1235 Deerhurst Drive Huntsville ON
SUMMARY:OCHU Annual Convention
URL:https://local1623.ca/event/ochu-annual-convention/
X-COST-TYPE:free
END:VEVENT
BEGIN:VEVENT
UID:ai1ec-1870@local1623.ca
DTSTAMP:20260422T122856Z
CATEGORIES:
CONTACT:JAMIE NYMAN\; 7056186818\; recording@local1623.ca\; local1623.ca
DTSTART;TZID=America/Toronto:20250508T073000
DTEND;TZID=America/Toronto:20250508T170000
LOCATION:CUPE 1623 Office @ 885 Regent Street
SUMMARY:Executive Meeting
URL:https://local1623.ca/event/executive-meeting-5/
X-COST-TYPE:free
END:VEVENT
BEGIN:VEVENT
UID:ai1ec-1869@local1623.ca
DTSTAMP:20260422T122856Z
CATEGORIES:
CONTACT:JAMIE NYMAN\; 7056186818\; recording@local1623.ca\; local1623.ca
DTSTART;TZID=America/Toronto:20250618T190000
DTEND;TZID=America/Toronto:20250618T210000
LOCATION:CUPE National Office @ 944 Barrydowne Road
SUMMARY:General Membership Meeting
URL:https://local1623.ca/event/general-membership-meeting-6/
X-COST-TYPE:free
END:VEVENT
BEGIN:VEVENT
UID:ai1ec-1999@local1623.ca
DTSTAMP:20260422T122856Z
CATEGORIES:
CONTACT:
DTSTART;TZID=America/Toronto:20260415T190000
DTEND;TZID=America/Toronto:20260415T200000
LOCATION:CUPE Office/Zoom @ 944 Barrydowne Road\, Sudbury\, Ontario
SUMMARY:General Membership Meeting
URL:https://local1623.ca/event/general-membership-meeting-7/
X-COST-TYPE:free
END:VEVENT
BEGIN:VEVENT
UID:ai1ec-2029@local1623.ca
DTSTAMP:20260422T122856Z
CATEGORIES:
CONTACT:
DTSTART;TZID=America/Toronto:20260420T170000
DTEND;TZID=America/Toronto:20260420T190000
GEO:+46.472623;-81.008145
LOCATION:CUPE Local 1623 Office @ 885 Regent Street Suite 3-11A Sudbury
SUMMARY:CUPE 1623 Special Membership Meeting
URL:https://local1623.ca/event/cupe-1623-special-membership-meeting/
X-COST-TYPE:free
END:VEVENT
END:VCALENDAR
